BEGIN:VCALENDAR
VERSION:2.0
PRODID:-//TV 1848 Bischofswerda - ECPv6.15.20//NONSGML v1.0//EN
CALSCALE:GREGORIAN
METHOD:PUBLISH
X-WR-CALNAME:TV 1848 Bischofswerda
X-ORIGINAL-URL:https://tv1848bischofswerda.de
X-WR-CALDESC:Veranstaltungen für TV 1848 Bischofswerda
REFRESH-INTERVAL;VALUE=DURATION:PT1H
X-Robots-Tag:noindex
X-PUBLISHED-TTL:PT1H
BEGIN:VTIMEZONE
TZID:Europe/Berlin
BEGIN:DAYLIGHT
TZOFFSETFROM:+0100
TZOFFSETTO:+0200
TZNAME:CEST
DTSTART:20210328T010000
END:DAYLIGHT
BEGIN:STANDARD
TZOFFSETFROM:+0200
TZOFFSETTO:+0100
TZNAME:CET
DTSTART:20211031T010000
END:STANDARD
BEGIN:DAYLIGHT
TZOFFSETFROM:+0100
TZOFFSETTO:+0200
TZNAME:CEST
DTSTART:20220327T010000
END:DAYLIGHT
BEGIN:STANDARD
TZOFFSETFROM:+0200
TZOFFSETTO:+0100
TZNAME:CET
DTSTART:20221030T010000
END:STANDARD
BEGIN:DAYLIGHT
TZOFFSETFROM:+0100
TZOFFSETTO:+0200
TZNAME:CEST
DTSTART:20230326T010000
END:DAYLIGHT
BEGIN:STANDARD
TZOFFSETFROM:+0200
TZOFFSETTO:+0100
TZNAME:CET
DTSTART:20231029T010000
END:STANDARD
END:VTIMEZONE
BEGIN:VEVENT
DTSTART;TZID=Europe/Berlin:20220325T170000
DTEND;TZID=Europe/Berlin:20220325T190000
DTSTAMP:20260419T190220
CREATED:20220222T201002Z
LAST-MODIFIED:20220222T201004Z
UID:3899-1648227600-1648234800@tv1848bischofswerda.de
SUMMARY:Spezialtraining Wettkampfvorbereitung
DESCRIPTION:Trainingsangebot speziell für wettkampforientierte Athleten. Der Teilnehmerkreis variiert und wird von den Trainern festgelegt und eingeladen.\n \n			\n			\n				\n				\n				\n				\n			\n				\n				\n				\n				\n				\n				\n				\n				\n				\n				\n				Trainer: Daniela Kliche \nTreff: 16:00 Uhr am Stadion Wesenitzsportpark
URL:https://tv1848bischofswerda.de/termin/spezialtraining-wettkampfvorbereitung-4/
LOCATION:Dresden\, Zugang Glacisstraße 3b\, Dresden\, 01097
CATEGORIES:Leichtathletik
ATTACH;FMTTYPE=image/png:https://tv1848bischofswerda.de/wp-content/uploads/2021/10/logo.png
END:VEVENT
END:VCALENDAR